BEGIN:VCALENDAR
VERSION:2.0
PRODID:-//Polymeric Exteriors - ECPv6.15.18//NONSGML v1.0//EN
CALSCALE:GREGORIAN
METHOD:PUBLISH
X-WR-CALNAME:Polymeric Exteriors
X-ORIGINAL-URL:https://polymericexteriors.org
X-WR-CALDESC:Events for Polymeric Exteriors
REFRESH-INTERVAL;VALUE=DURATION:PT1H
X-Robots-Tag:noindex
X-PUBLISHED-TTL:PT1H
BEGIN:VTIMEZONE
TZID:America/New_York
BEGIN:DAYLIGHT
TZOFFSETFROM:-0500
TZOFFSETTO:-0400
TZNAME:EDT
DTSTART:20190310T070000
END:DAYLIGHT
BEGIN:STANDARD
TZOFFSETFROM:-0400
TZOFFSETTO:-0500
TZNAME:EST
DTSTART:20191103T060000
END:STANDARD
BEGIN:DAYLIGHT
TZOFFSETFROM:-0500
TZOFFSETTO:-0400
TZNAME:EDT
DTSTART:20200308T070000
END:DAYLIGHT
BEGIN:STANDARD
TZOFFSETFROM:-0400
TZOFFSETTO:-0500
TZNAME:EST
DTSTART:20201101T060000
END:STANDARD
BEGIN:DAYLIGHT
TZOFFSETFROM:-0500
TZOFFSETTO:-0400
TZNAME:EDT
DTSTART:20210314T070000
END:DAYLIGHT
BEGIN:STANDARD
TZOFFSETFROM:-0400
TZOFFSETTO:-0500
TZNAME:EST
DTSTART:20211107T060000
END:STANDARD
BEGIN:DAYLIGHT
TZOFFSETFROM:-0500
TZOFFSETTO:-0400
TZNAME:EDT
DTSTART:20220313T070000
END:DAYLIGHT
BEGIN:STANDARD
TZOFFSETFROM:-0400
TZOFFSETTO:-0500
TZNAME:EST
DTSTART:20221106T060000
END:STANDARD
END:VTIMEZONE
BEGIN:VTIMEZONE
TZID:America/Los_Angeles
BEGIN:DAYLIGHT
TZOFFSETFROM:-0800
TZOFFSETTO:-0700
TZNAME:PDT
DTSTART:20200308T100000
END:DAYLIGHT
BEGIN:STANDARD
TZOFFSETFROM:-0700
TZOFFSETTO:-0800
TZNAME:PST
DTSTART:20201101T090000
END:STANDARD
BEGIN:DAYLIGHT
TZOFFSETFROM:-0800
TZOFFSETTO:-0700
TZNAME:PDT
DTSTART:20210314T100000
END:DAYLIGHT
BEGIN:STANDARD
TZOFFSETFROM:-0700
TZOFFSETTO:-0800
TZNAME:PST
DTSTART:20211107T090000
END:STANDARD
BEGIN:DAYLIGHT
TZOFFSETFROM:-0800
TZOFFSETTO:-0700
TZNAME:PDT
DTSTART:20220313T100000
END:DAYLIGHT
BEGIN:STANDARD
TZOFFSETFROM:-0700
TZOFFSETTO:-0800
TZNAME:PST
DTSTART:20221106T090000
END:STANDARD
END:VTIMEZONE
BEGIN:VTIMEZONE
TZID:America/New_York
BEGIN:DAYLIGHT
TZOFFSETFROM:-0500
TZOFFSETTO:-0400
TZNAME:EDT
DTSTART:20200308T070000
END:DAYLIGHT
BEGIN:STANDARD
TZOFFSETFROM:-0400
TZOFFSETTO:-0500
TZNAME:EST
DTSTART:20201101T060000
END:STANDARD
BEGIN:DAYLIGHT
TZOFFSETFROM:-0500
TZOFFSETTO:-0400
TZNAME:EDT
DTSTART:20210314T070000
END:DAYLIGHT
BEGIN:STANDARD
TZOFFSETFROM:-0400
TZOFFSETTO:-0500
TZNAME:EST
DTSTART:20211107T060000
END:STANDARD
BEGIN:DAYLIGHT
TZOFFSETFROM:-0500
TZOFFSETTO:-0400
TZNAME:EDT
DTSTART:20220313T070000
END:DAYLIGHT
BEGIN:STANDARD
TZOFFSETFROM:-0400
TZOFFSETTO:-0500
TZNAME:EST
DTSTART:20221106T060000
END:STANDARD
END:VTIMEZONE
BEGIN:VEVENT
DTSTART;TZID=America/New_York:20210819T110000
DTEND;TZID=America/New_York:20210819T123000
DTSTAMP:20260421T015233
CREATED:20210304T183438Z
LAST-MODIFIED:20210304T183534Z
UID:10000231-1629370800-1629376200@polymericexteriors.org
SUMMARY:Basics of Vinyl Siding Installation & Tools of the Trade Featuring OSI/Henkel – Sealant Application Best Practices w/Virtual Plant Tour
DESCRIPTION:
URL:https://polymericexteriors.org/event/basics-of-vinyl-siding-installation-tools-of-the-trade-featuring-osi-henkel-sealant-application-best-practices-w-virtual-plant-tour/
CATEGORIES:Installer Trainee Webinar
END:VEVENT
BEGIN:VEVENT
DTSTART;VALUE=DATE:20210818
DTEND;VALUE=DATE:20210820
DTSTAMP:20260421T015233
CREATED:20210603T210242Z
LAST-MODIFIED:20210603T210242Z
UID:10000240-1629244800-1629417599@polymericexteriors.org
SUMMARY:AIA National Conference
DESCRIPTION:
URL:https://polymericexteriors.org/event/aia-national-conference/
CATEGORIES:Industry Events
ATTACH;FMTTYPE=image/jpeg:https://polymericexteriors.org/wp-content/uploads/2021/06/AIA_Montgomery.jpg
END:VEVENT
BEGIN:VEVENT
DTSTART;TZID=America/Los_Angeles:20210810T121500
DTEND;TZID=America/Los_Angeles:20210811T131500
DTSTAMP:20260421T015233
CREATED:20210304T183342Z
LAST-MODIFIED:20210330T201040Z
UID:10000230-1628597700-1628687700@polymericexteriors.org
SUMMARY:Basics of Vinyl Siding Installation & Tools of the Trade IRE Las Vegas – In Person Education Event - Siding Pavilion
DESCRIPTION:
URL:https://polymericexteriors.org/event/basics-of-vinyl-siding-installation-tools-of-the-trade-ire-las-vegas-in-person-education-event-siding-pavilion/
CATEGORIES:Installer Trainee Webinar
END:VEVENT
BEGIN:VEVENT
DTSTART;TZID=America/New_York:20210722T110000
DTEND;TZID=America/New_York:20210722T123000
DTSTAMP:20260421T015233
CREATED:20210304T183155Z
LAST-MODIFIED:20210304T183155Z
UID:10000229-1626951600-1626957000@polymericexteriors.org
SUMMARY:Basics of Vinyl Siding Installation & Tools of the Trade Featuring Lomanco Vents - Basics of Soffit Ventilation
DESCRIPTION:
URL:https://polymericexteriors.org/event/basics-of-vinyl-siding-installation-tools-of-the-trade-featuring-lomanco-vents-basics-of-soffit-ventilation/
CATEGORIES:Installer Trainee Webinar
END:VEVENT
BEGIN:VEVENT
DTSTART;TZID=America/New_York:20210720T080000
DTEND;TZID=America/New_York:20210720T170000
DTSTAMP:20260421T015233
CREATED:20210301T205320Z
LAST-MODIFIED:20210301T205320Z
UID:10000223-1626768000-1626800400@polymericexteriors.org
SUMMARY:VSI Certified Installer Certification
DESCRIPTION:
URL:https://polymericexteriors.org/event/vsi-certified-installer-certification-5/
CATEGORIES:Certified Installer Training
END:VEVENT
BEGIN:VEVENT
DTSTART;VALUE=DATE:20210719
DTEND;VALUE=DATE:20210722
DTSTAMP:20260421T015233
CREATED:20210603T210124Z
LAST-MODIFIED:20210603T210124Z
UID:10000239-1626652800-1626911999@polymericexteriors.org
SUMMARY:NC Building Inspector Association (NCBIA) 2021 Annual Conference
DESCRIPTION:
URL:https://polymericexteriors.org/event/nc-building-inspector-association-ncbia-2021-annual-conference/
CATEGORIES:Industry Events
ATTACH;FMTTYPE=image/jpeg:https://polymericexteriors.org/wp-content/uploads/2021/06/NCBIA.jpg
END:VEVENT
BEGIN:VEVENT
DTSTART;TZID=America/New_York:20210713T153000
DTEND;TZID=America/New_York:20210713T180000
DTSTAMP:20260421T015233
CREATED:20210624T234223Z
LAST-MODIFIED:20210624T234223Z
UID:10000246-1626190200-1626199200@polymericexteriors.org
SUMMARY:Dallas Builder's Association - Advantages of Polymeric Siding
DESCRIPTION:
URL:https://polymericexteriors.org/event/dallas-builders-association-advantages-of-polymeric-siding/
LOCATION:Trade Mart at Dallas Market Center\, 2100 Stemmons Freeway\, Dallas\, TX\, 75207
CATEGORIES:Industry Events
ATTACH;FMTTYPE=image/jpeg:https://polymericexteriors.org/wp-content/uploads/2020/02/photo-1517048676732-d65bc937f952-1.jpg
END:VEVENT
BEGIN:VEVENT
DTSTART;VALUE=DATE:20210713
DTEND;VALUE=DATE:20210717
DTSTAMP:20260421T015233
CREATED:20210603T205959Z
LAST-MODIFIED:20210603T205959Z
UID:10000238-1626134400-1626479999@polymericexteriors.org
SUMMARY:Sunbelt Builder's Show
DESCRIPTION:
URL:https://polymericexteriors.org/event/sunbelt-builders-show/
CATEGORIES:Industry Events
ATTACH;FMTTYPE=image/jpeg:https://polymericexteriors.org/wp-content/uploads/2021/06/sunbelt_show.jpg
END:VEVENT
BEGIN:VEVENT
DTSTART;TZID=America/New_York:20210624T090000
DTEND;TZID=America/New_York:20210624T140000
DTSTAMP:20260421T015233
CREATED:20210301T205239Z
LAST-MODIFIED:20210301T205239Z
UID:10000222-1624525200-1624543200@polymericexteriors.org
SUMMARY:VSI Certified Installer Certification
DESCRIPTION:
URL:https://polymericexteriors.org/event/vsi-certified-installer-certification-4/
CATEGORIES:Certified Installer Training
END:VEVENT
BEGIN:VEVENT
DTSTART;TZID=America/New_York:20210617T110000
DTEND;TZID=America/New_York:20210617T123000
DTSTAMP:20260421T015233
CREATED:20210224T151143Z
LAST-MODIFIED:20210228T211843Z
UID:10000216-1623927600-1623933000@polymericexteriors.org
SUMMARY:Basics of Vinyl Siding Installation & Tools of the Trade Featuring Van Mark Products/Field Forming Brake & Accessory Use
DESCRIPTION:
URL:https://polymericexteriors.org/event/basics-of-vinyl-siding-installation-tools-of-the-trade-2/
CATEGORIES:Installer Trainee Webinar
END:VEVENT
BEGIN:VEVENT
DTSTART;VALUE=DATE:20210610
DTEND;VALUE=DATE:20210613
DTSTAMP:20260421T015233
CREATED:20210603T205837Z
LAST-MODIFIED:20210603T205837Z
UID:10000237-1623283200-1623542399@polymericexteriors.org
SUMMARY:National Town Builders Association Event
DESCRIPTION:
URL:https://polymericexteriors.org/event/national-town-builders-association-event/
CATEGORIES:Industry Events
ATTACH;FMTTYPE=image/jpeg:https://polymericexteriors.org/wp-content/uploads/2021/06/fall_2020_sidephoto.jpg
END:VEVENT
BEGIN:VEVENT
DTSTART;VALUE=DATE:20210606
DTEND;VALUE=DATE:20210607
DTSTAMP:20260421T015233
CREATED:20210603T205729Z
LAST-MODIFIED:20210603T205729Z
UID:10000236-1622937600-1623023999@polymericexteriors.org
SUMMARY:BOAF Florida Building Officials Annual Expo
DESCRIPTION:
URL:https://polymericexteriors.org/event/boaf-florida-building-officials-annual-expo/
CATEGORIES:Industry Events
ATTACH;FMTTYPE=image/jpeg:https://polymericexteriors.org/wp-content/uploads/2021/06/rosen-centre-at-night.jpg
END:VEVENT
BEGIN:VEVENT
DTSTART;TZID=America/New_York:20210520T110000
DTEND;TZID=America/New_York:20210520T123000
DTSTAMP:20260421T015233
CREATED:20210228T211652Z
LAST-MODIFIED:20210228T211711Z
UID:10000218-1621508400-1621513800@polymericexteriors.org
SUMMARY:Basics of Vinyl Siding Installation & Tools of the Trade Featuring EagleView Technologies - 3D Aerial Imagery & Estimating Technology
DESCRIPTION:
URL:https://polymericexteriors.org/event/basics-of-vinyl-siding-installation-tools-of-the-trade-featuring-eagleview-technologies-3d-aerial-imagery-estimating-technology/
CATEGORIES:Installer Trainee Webinar
END:VEVENT
BEGIN:VEVENT
DTSTART;TZID=America/New_York:20210518T090000
DTEND;TZID=America/New_York:20210518T140000
DTSTAMP:20260421T015233
CREATED:20210301T205120Z
LAST-MODIFIED:20210301T205120Z
UID:10000221-1621328400-1621346400@polymericexteriors.org
SUMMARY:VSI Certified Installer Certification
DESCRIPTION:
URL:https://polymericexteriors.org/event/vsi-certified-installer-certification-3/
CATEGORIES:Certified Installer Training
END:VEVENT
BEGIN:VEVENT
DTSTART;TZID=America/New_York:20210422T110000
DTEND;TZID=America/New_York:20210422T123000
DTSTAMP:20260421T015233
CREATED:20210128T151021Z
LAST-MODIFIED:20210301T205659Z
UID:10000215-1619089200-1619094600@polymericexteriors.org
SUMMARY:Basics of Vinyl Siding Installation & Tools of the Trade Featuring LEAP to Digital Technology
DESCRIPTION:
URL:https://polymericexteriors.org/event/basics-of-vinyl-siding-installation-tools-of-the-trade/
CATEGORIES:Installer Trainee Webinar
END:VEVENT
BEGIN:VEVENT
DTSTART;TZID=America/New_York:20210415T100000
DTEND;TZID=America/New_York:20210415T150000
DTSTAMP:20260421T015233
CREATED:20210301T205010Z
LAST-MODIFIED:20210301T205141Z
UID:10000220-1618480800-1618498800@polymericexteriors.org
SUMMARY:VSI Certified Installer Certification
DESCRIPTION:
URL:https://polymericexteriors.org/event/vsi-certified-installer-certification-2/
CATEGORIES:Certified Installer Training
END:VEVENT
BEGIN:VEVENT
DTSTART;TZID=America/New_York:20210318T110000
DTEND;TZID=America/New_York:20210318T123000
DTSTAMP:20260421T015233
CREATED:20210228T210305Z
LAST-MODIFIED:20210228T210355Z
UID:10000217-1616065200-1616070600@polymericexteriors.org
SUMMARY:Basics of Vinyl Siding Installation & Tools of the Trade Featuring HOVER\, 3D Imagery & Estimating Technology
DESCRIPTION:
URL:https://polymericexteriors.org/event/basics-of-vinyl-siding-installation-tools-of-the-trade-3/
CATEGORIES:Installer Trainee Webinar
END:VEVENT
BEGIN:VEVENT
DTSTART;TZID=America/New_York:20210311T090000
DTEND;TZID=America/New_York:20210311T140000
DTSTAMP:20260421T015233
CREATED:20210301T204831Z
LAST-MODIFIED:20210301T204831Z
UID:10000219-1615453200-1615471200@polymericexteriors.org
SUMMARY:VSI Certified Installer Certification
DESCRIPTION:
URL:https://polymericexteriors.org/event/vsi-certified-installer-certification/
CATEGORIES:Certified Installer Training
END:VEVENT
BEGIN:VEVENT
DTSTART;VALUE=DATE:20201112
DTEND;VALUE=DATE:20201113
DTSTAMP:20260421T015233
CREATED:20200507T202833Z
LAST-MODIFIED:20200514T154717Z
UID:10000209-1605139200-1605225599@polymericexteriors.org
SUMMARY:American Institute of Building Design (AIBD)
DESCRIPTION:
URL:https://polymericexteriors.org/event/american-institute-of-building-design-aibd/
LOCATION:Florida\, Florida
CATEGORIES:ADP / ICC Advocacy Program Plan
ATTACH;FMTTYPE=image/jpeg:https://polymericexteriors.org/wp-content/uploads/2020/05/AIBD_Event.jpg
END:VEVENT
BEGIN:VEVENT
DTSTART;VALUE=DATE:20201111
DTEND;VALUE=DATE:20201112
DTSTAMP:20260421T015233
CREATED:20200507T202733Z
LAST-MODIFIED:20200514T154947Z
UID:10000208-1605052800-1605139199@polymericexteriors.org
SUMMARY:Texas Builders Annual Conference
DESCRIPTION:
URL:https://polymericexteriors.org/event/texas-builders-annual-conference/
LOCATION:Texas\, Texas
CATEGORIES:ADP / ICC Advocacy Program Plan
ATTACH;FMTTYPE=image/jpeg:https://polymericexteriors.org/wp-content/uploads/2020/05/Texas_Builders_Conference_Event.jpg
END:VEVENT
BEGIN:VEVENT
DTSTART;VALUE=DATE:20201104
DTEND;VALUE=DATE:20201105
DTSTAMP:20260421T015233
CREATED:20200507T202453Z
LAST-MODIFIED:20200514T154458Z
UID:10000207-1604448000-1604534399@polymericexteriors.org
SUMMARY:Architecture Boston Expo
DESCRIPTION:
URL:https://polymericexteriors.org/event/architecture-boston-expo/
LOCATION:Massachusetts\, Massachusetts
CATEGORIES:ADP / ICC Advocacy Program Plan
ATTACH;FMTTYPE=image/jpeg:https://polymericexteriors.org/wp-content/uploads/2020/05/Architecture_Boston_Expo_Event.jpg
END:VEVENT
BEGIN:VEVENT
DTSTART;VALUE=DATE:20201028
DTEND;VALUE=DATE:20201029
DTSTAMP:20260421T015233
CREATED:20200507T202340Z
LAST-MODIFIED:20200514T154245Z
UID:10000206-1603843200-1603929599@polymericexteriors.org
SUMMARY:Design Build Conference & Expo
DESCRIPTION:
URL:https://polymericexteriors.org/event/design-build-conference-expo/
LOCATION:DC\, Washington\, D.C.
CATEGORIES:ADP / ICC Advocacy Program Plan
ATTACH;FMTTYPE=image/jpeg:https://polymericexteriors.org/wp-content/uploads/2020/05/Design_Build_Conference_Expo_Event.jpg
END:VEVENT
BEGIN:VEVENT
DTSTART;VALUE=DATE:20201012
DTEND;VALUE=DATE:20201013
DTSTAMP:20260421T015233
CREATED:20200512T144653Z
LAST-MODIFIED:20200514T152049Z
UID:10000214-1602460800-1602547199@polymericexteriors.org
SUMMARY:Spec Shaman
DESCRIPTION:
URL:https://polymericexteriors.org/event/spec-shaman/
LOCATION:Texas\, Texas
CATEGORIES:ADP / ICC Advocacy Program Plan
ATTACH;FMTTYPE=image/jpeg:https://polymericexteriors.org/wp-content/uploads/2020/05/Spec_Shaman_Event.jpg
END:VEVENT
BEGIN:VEVENT
DTSTART;VALUE=DATE:20201011
DTEND;VALUE=DATE:20201012
DTSTAMP:20260421T015233
CREATED:20200507T202225Z
LAST-MODIFIED:20200514T150629Z
UID:10000205-1602374400-1602460799@polymericexteriors.org
SUMMARY:National Town Builders Association (NTBA) Meeting
DESCRIPTION:
URL:https://polymericexteriors.org/event/national-town-builders-association-ntba-meeting/
LOCATION:North Carolina\, North Carolina
CATEGORIES:ADP / ICC Advocacy Program Plan
ATTACH;FMTTYPE=image/jpeg:https://polymericexteriors.org/wp-content/uploads/2020/05/NTBA_Meeting_Event.jpg
END:VEVENT
BEGIN:VEVENT
DTSTART;VALUE=DATE:20200927
DTEND;VALUE=DATE:20200928
DTSTAMP:20260421T015233
CREATED:20200512T144204Z
LAST-MODIFIED:20200514T145459Z
UID:10000213-1601164800-1601251199@polymericexteriors.org
SUMMARY:BOAF 2020 Annual Conference & Expo
DESCRIPTION:
URL:https://polymericexteriors.org/event/boaf-2020-annual-conference-expo/
LOCATION:Florida\, Florida
CATEGORIES:ADP / ICC Advocacy Program Plan
ATTACH;FMTTYPE=image/jpeg:https://polymericexteriors.org/wp-content/uploads/2020/05/BOAF_Conference_Expo_Event.jpg
END:VEVENT
BEGIN:VEVENT
DTSTART;VALUE=DATE:20200923
DTEND;VALUE=DATE:20200924
DTSTAMP:20260421T015233
CREATED:20200512T144018Z
LAST-MODIFIED:20200514T145003Z
UID:10000212-1600819200-1600905599@polymericexteriors.org
SUMMARY:International City/County Management Association
DESCRIPTION:
URL:https://polymericexteriors.org/event/international-city-county-management-association/
LOCATION:Toronto\, Toronto\, Canada
CATEGORIES:ADP / ICC Advocacy Program Plan
ATTACH;FMTTYPE=image/jpeg:https://polymericexteriors.org/wp-content/uploads/2020/05/ICMA_Conference_Event.jpg
END:VEVENT
BEGIN:VEVENT
DTSTART;VALUE=DATE:20200913
DTEND;VALUE=DATE:20200914
DTSTAMP:20260421T015233
CREATED:20200512T143756Z
LAST-MODIFIED:20200514T144702Z
UID:10000211-1599955200-1600041599@polymericexteriors.org
SUMMARY:Virginia Building Code Officials Conference
DESCRIPTION:
URL:https://polymericexteriors.org/event/virginia-building-code-officials-conference/
LOCATION:Virginia\, Virginia
CATEGORIES:ADP / ICC Advocacy Program Plan
ATTACH;FMTTYPE=image/jpeg:https://polymericexteriors.org/wp-content/uploads/2020/05/Virginia_Building_Code_Association_Event.jpg
END:VEVENT
BEGIN:VEVENT
DTSTART;VALUE=DATE:20200812
DTEND;VALUE=DATE:20200813
DTSTAMP:20260421T015233
CREATED:20200512T143528Z
LAST-MODIFIED:20200514T144145Z
UID:10000210-1597190400-1597276799@polymericexteriors.org
SUMMARY:Building Officials Association of Texas (BOAT)
DESCRIPTION:
URL:https://polymericexteriors.org/event/building-officials-association-of-texas-boat/
LOCATION:Texas\, Texas
CATEGORIES:ADP / ICC Advocacy Program Plan
ATTACH;FMTTYPE=image/jpeg:https://polymericexteriors.org/wp-content/uploads/2020/05/Builder_Association_Boat_Event.jpg
END:VEVENT
BEGIN:VEVENT
DTSTART;VALUE=DATE:20200714
DTEND;VALUE=DATE:20200715
DTSTAMP:20260421T015233
CREATED:20200507T202106Z
LAST-MODIFIED:20200514T133710Z
UID:10000203-1594684800-1594771199@polymericexteriors.org
SUMMARY:Sunbelt Show
DESCRIPTION:
URL:https://polymericexteriors.org/event/sunbelt-show/
LOCATION:Grapevine\, Texas\, Grapevine\, Texas
CATEGORIES:ADP / ICC Advocacy Program Plan
ATTACH;FMTTYPE=image/jpeg:https://polymericexteriors.org/wp-content/uploads/2020/05/Sunbelt_Show_2.jpg
END:VEVENT
BEGIN:VEVENT
DTSTART;VALUE=DATE:20200625
DTEND;VALUE=DATE:20200626
DTSTAMP:20260421T015233
CREATED:20200507T202010Z
LAST-MODIFIED:20200508T200256Z
UID:10000201-1593043200-1593129599@polymericexteriors.org
SUMMARY:AIA Atlanta
DESCRIPTION:
URL:https://polymericexteriors.org/event/aia-atlanta/
LOCATION:Georgia\, Atlanta\, Georgia
CATEGORIES:ADP / ICC Advocacy Program Plan
ATTACH;FMTTYPE=image/jpeg:https://polymericexteriors.org/wp-content/uploads/2020/05/AIA_Atlanta_Event.jpg
END:VEVENT
END:VCALENDAR