BEGIN:VCALENDAR
VERSION:2.0
PRODID:-//Polymeric Exteriors - ECPv6.15.18//NONSGML v1.0//EN
CALSCALE:GREGORIAN
METHOD:PUBLISH
X-WR-CALNAME:Polymeric Exteriors
X-ORIGINAL-URL:https://polymericexteriors.org
X-WR-CALDESC:Events for Polymeric Exteriors
REFRESH-INTERVAL;VALUE=DURATION:PT1H
X-Robots-Tag:noindex
X-PUBLISHED-TTL:PT1H
BEGIN:VTIMEZONE
TZID:America/New_York
BEGIN:DAYLIGHT
TZOFFSETFROM:-0500
TZOFFSETTO:-0400
TZNAME:EDT
DTSTART:20210314T070000
END:DAYLIGHT
BEGIN:STANDARD
TZOFFSETFROM:-0400
TZOFFSETTO:-0500
TZNAME:EST
DTSTART:20211107T060000
END:STANDARD
BEGIN:DAYLIGHT
TZOFFSETFROM:-0500
TZOFFSETTO:-0400
TZNAME:EDT
DTSTART:20220313T070000
END:DAYLIGHT
BEGIN:STANDARD
TZOFFSETFROM:-0400
TZOFFSETTO:-0500
TZNAME:EST
DTSTART:20221106T060000
END:STANDARD
BEGIN:DAYLIGHT
TZOFFSETFROM:-0500
TZOFFSETTO:-0400
TZNAME:EDT
DTSTART:20230312T070000
END:DAYLIGHT
BEGIN:STANDARD
TZOFFSETFROM:-0400
TZOFFSETTO:-0500
TZNAME:EST
DTSTART:20231105T060000
END:STANDARD
END:VTIMEZONE
BEGIN:VEVENT
DTSTART;TZID=America/New_York:20220518T090000
DTEND;TZID=America/New_York:20220518T150000
DTSTAMP:20260421T005133
CREATED:20220503T195902Z
LAST-MODIFIED:20220503T195902Z
UID:10000298-1652864400-1652886000@polymericexteriors.org
SUMMARY:Certified Installer Training (In Person) - Beloit\, WI
DESCRIPTION:
URL:https://polymericexteriors.org/event/certified-installer-training-in-person-beloit-wi/
LOCATION:Beloit\, WI\, Beloit\, WI
CATEGORIES:Certified Installer Training
ATTACH;FMTTYPE=image/jpeg:https://polymericexteriors.org/wp-content/uploads/2019/11/VSI_December_Blog_Feature_FAE-e1579712123323.jpg
ORGANIZER;CN="Tony Sellers":MAILTO:tony.sellers@norandex.com
END:VEVENT
BEGIN:VEVENT
DTSTART;TZID=America/New_York:20220517T090000
DTEND;TZID=America/New_York:20220517T140000
DTSTAMP:20260421T005133
CREATED:20220317T210832Z
LAST-MODIFIED:20220317T210832Z
UID:10000291-1652778000-1652796000@polymericexteriors.org
SUMMARY:VSI Certified Installer Certification (Online)
DESCRIPTION:
URL:https://polymericexteriors.org/event/vsi-certified-installer-certification-online-2/
CATEGORIES:Certified Installer Training
ATTACH;FMTTYPE=image/jpeg:https://polymericexteriors.org/wp-content/uploads/2019/11/VSI_December_Blog_Feature_FAE-e1579712123323.jpg
END:VEVENT
BEGIN:VEVENT
DTSTART;VALUE=DATE:20220515
DTEND;VALUE=DATE:20220520
DTSTAMP:20260421T005133
CREATED:20211230T144836Z
LAST-MODIFIED:20211230T144836Z
UID:10000275-1652572800-1653004799@polymericexteriors.org
SUMMARY:Building Officials Association of Georgia (BOAG)
DESCRIPTION:
URL:https://polymericexteriors.org/event/building-officials-association-of-georgia-boag/
CATEGORIES:Industry Events
END:VEVENT
BEGIN:VEVENT
DTSTART;VALUE=DATE:20220511
DTEND;VALUE=DATE:20220516
DTSTAMP:20260421T005133
CREATED:20211230T142455Z
LAST-MODIFIED:20211230T142455Z
UID:10000259-1652227200-1652659199@polymericexteriors.org
SUMMARY:NTBA Spring Roundtable
DESCRIPTION:
URL:https://polymericexteriors.org/event/ntba-spring-roundtable/
CATEGORIES:Industry Events
END:VEVENT
BEGIN:VEVENT
DTSTART;TZID=America/New_York:20220503T090000
DTEND;TZID=America/New_York:20220503T150000
DTSTAMP:20260421T005133
CREATED:20220322T224425Z
LAST-MODIFIED:20220406T044705Z
UID:10000296-1651568400-1651590000@polymericexteriors.org
SUMMARY:Certified Installer Training (In Person) - Cromwell\, CT
DESCRIPTION:
URL:https://polymericexteriors.org/event/certified-installer-training-in-person/
LOCATION:Cromwell\, CT\, Cromwell
CATEGORIES:Certified Installer Training
ATTACH;FMTTYPE=image/jpeg:https://polymericexteriors.org/wp-content/uploads/2019/11/VSI_December_Blog_Feature_FAE-e1579712123323.jpg
ORGANIZER;CN="David Verbofsky":MAILTO:David.Verbofsky@cornerstone-bb.com
END:VEVENT
BEGIN:VEVENT
DTSTART;VALUE=DATE:20220501
DTEND;VALUE=DATE:20220506
DTSTAMP:20260421T005133
CREATED:20211230T144711Z
LAST-MODIFIED:20211230T144711Z
UID:10000274-1651363200-1651795199@polymericexteriors.org
SUMMARY:Building Officials Association of SC
DESCRIPTION:
URL:https://polymericexteriors.org/event/building-officials-association-of-sc/
CATEGORIES:Industry Events
END:VEVENT
BEGIN:VEVENT
DTSTART;TZID=America/New_York:20220428T090000
DTEND;TZID=America/New_York:20220428T150000
DTSTAMP:20260421T005133
CREATED:20220406T043628Z
LAST-MODIFIED:20220406T044535Z
UID:10000297-1651136400-1651158000@polymericexteriors.org
SUMMARY:VSI Certified Installer Certification (In-Person) - Beloit\, WI
DESCRIPTION:
URL:https://polymericexteriors.org/event/vsi-certified-installer-certification-in-person/
LOCATION:Beloit\, WI\, Beloit\, WI
CATEGORIES:Certified Installer Training
ATTACH;FMTTYPE=image/jpeg:https://polymericexteriors.org/wp-content/uploads/2020/02/photo-1517048676732-d65bc937f952-1.jpg
ORGANIZER;CN="Tony Sellers":MAILTO:tony.sellers@norandex.com
END:VEVENT
BEGIN:VEVENT
DTSTART;TZID=America/New_York:20220421T110000
DTEND;TZID=America/New_York:20220421T123000
DTSTAMP:20260421T005133
CREATED:20220317T205715Z
LAST-MODIFIED:20220317T205715Z
UID:10000287-1650538800-1650544200@polymericexteriors.org
SUMMARY:Basics of Vinyl Siding Installation & Tools of the Trade - Featuring EagleView Technologies - 3D Aerial Imagery & Estimating Technology
DESCRIPTION:
URL:https://polymericexteriors.org/event/basics-of-vinyl-siding-installation-tools-of-the-trade-featuring-eagleview-technologies-3d-aerial-imagery-estimating-technology-2/
CATEGORIES:Installer Trainee Webinar
ATTACH;FMTTYPE=image/jpeg:https://polymericexteriors.org/wp-content/uploads/2019/11/VSI_December_Blog_Feature_FAE-e1579712123323.jpg
END:VEVENT
BEGIN:VEVENT
DTSTART;TZID=America/New_York:20220419T090000
DTEND;TZID=America/New_York:20220419T140000
DTSTAMP:20260421T005133
CREATED:20220317T210617Z
LAST-MODIFIED:20220317T210617Z
UID:10000290-1650358800-1650376800@polymericexteriors.org
SUMMARY:VSI Certified Installer Certification (Online)
DESCRIPTION:
URL:https://polymericexteriors.org/event/vsi-certified-installer-certification-online/
CATEGORIES:Certified Installer Training
ATTACH;FMTTYPE=image/jpeg:https://polymericexteriors.org/wp-content/uploads/2019/11/VSI_December_Blog_Feature_FAE-e1579712123323.jpg
END:VEVENT
BEGIN:VEVENT
DTSTART;VALUE=DATE:20220413
DTEND;VALUE=DATE:20220415
DTSTAMP:20260421T005133
CREATED:20211230T142115Z
LAST-MODIFIED:20211230T142115Z
UID:10000257-1649808000-1649980799@polymericexteriors.org
SUMMARY:Austin Build Expo
DESCRIPTION:
URL:https://polymericexteriors.org/event/austin-build-expo/
CATEGORIES:Industry Events
END:VEVENT
BEGIN:VEVENT
DTSTART;TZID=America/New_York:20220412T090000
DTEND;TZID=America/New_York:20220412T150000
DTSTAMP:20260421T005133
CREATED:20220315T225155Z
LAST-MODIFIED:20220315T225155Z
UID:10000284-1649754000-1649775600@polymericexteriors.org
SUMMARY:Certified Installer Training (In Person) - Indianapolis\, IN
DESCRIPTION:
URL:https://polymericexteriors.org/event/certified-installer-training-in-person-indianapolis-in/
CATEGORIES:Certified Installer Training
ATTACH;FMTTYPE=image/jpeg:https://polymericexteriors.org/wp-content/uploads/2019/11/VSI_December_Blog_Feature_FAE-e1579712123323.jpg
ORGANIZER;CN="David Verbofsky":MAILTO:David.Verbofsky@cornerstone-bb.com
END:VEVENT
BEGIN:VEVENT
DTSTART;VALUE=DATE:20220412
DTEND;VALUE=DATE:20220413
DTSTAMP:20260421T005133
CREATED:20211230T144031Z
LAST-MODIFIED:20211230T144031Z
UID:10000269-1649721600-1649807999@polymericexteriors.org
SUMMARY:Florida Building Commission Meetings
DESCRIPTION:
URL:https://polymericexteriors.org/event/florida-building-commission-meetings-2/
CATEGORIES:Industry Events
END:VEVENT
BEGIN:VEVENT
DTSTART;TZID=America/New_York:20220331T110000
DTEND;TZID=America/New_York:20220331T123000
DTSTAMP:20260421T005133
CREATED:20220317T205238Z
LAST-MODIFIED:20220317T205238Z
UID:10000286-1648724400-1648729800@polymericexteriors.org
SUMMARY:Basics of Vinyl Siding Installation & Tools of the Trade - Featuring Van Mark Products/Field Forming Brake & Accessory Use and Best Practices
DESCRIPTION:
URL:https://polymericexteriors.org/event/basics-of-vinyl-siding-installation-tools-of-the-trade-featuring-van-mark-products-field-forming-brake-accessory-use-and-best-practices-2/
CATEGORIES:Installer Trainee Webinar
ATTACH;FMTTYPE=image/jpeg:https://polymericexteriors.org/wp-content/uploads/2019/11/VSI_December_Blog_Feature_FAE-e1579712123323.jpg
END:VEVENT
BEGIN:VEVENT
DTSTART;TZID=America/New_York:20220329T090000
DTEND;TZID=America/New_York:20220329T140000
DTSTAMP:20260421T005133
CREATED:20211215T154454Z
LAST-MODIFIED:20220316T160932Z
UID:10000200-1648544400-1648562400@polymericexteriors.org
SUMMARY:VSI Certified Installer Certification (Online)
DESCRIPTION:
URL:https://polymericexteriors.org/event/certified-installer-training-3/
CATEGORIES:Certified Installer Training
ATTACH;FMTTYPE=image/jpeg:https://polymericexteriors.org/wp-content/uploads/2019/11/VSI_December_Blog_Feature_FAE-e1579712123323.jpg
END:VEVENT
BEGIN:VEVENT
DTSTART;VALUE=DATE:20220327
DTEND;VALUE=DATE:20220407
DTSTAMP:20260421T005133
CREATED:20211230T143924Z
LAST-MODIFIED:20211230T143924Z
UID:10000268-1648339200-1649289599@polymericexteriors.org
SUMMARY:ICC Committee Action Hearings (Group B)
DESCRIPTION:
URL:https://polymericexteriors.org/event/icc-committee-action-hearings-group-b/
CATEGORIES:Industry Events
END:VEVENT
BEGIN:VEVENT
DTSTART;VALUE=DATE:20220323
DTEND;VALUE=DATE:20220327
DTSTAMP:20260421T005133
CREATED:20211230T141803Z
LAST-MODIFIED:20211230T145435Z
UID:10000255-1647993600-1648339199@polymericexteriors.org
SUMMARY:Congress for New Urbanism (CNU)
DESCRIPTION:
URL:https://polymericexteriors.org/event/cnu/
CATEGORIES:Industry Events
END:VEVENT
BEGIN:VEVENT
DTSTART;TZID=America/New_York:20220317T110000
DTEND;TZID=America/New_York:20220317T123000
DTSTAMP:20260421T005133
CREATED:20220316T160121Z
LAST-MODIFIED:20220316T160355Z
UID:10000285-1647514800-1647520200@polymericexteriors.org
SUMMARY:Basics of Vinyl Siding Installation & Tools of the Trade - Featuring Sunlight Financial – Introduction to Consumer Financing for Contractors “How to Close More Sales with Financing
DESCRIPTION:
URL:https://polymericexteriors.org/event/basics-of-vinyl-siding-installation-tools-of-the-trade-featuring-van-mark-products-field-forming-brake-accessory-use-and-best-practices/
CATEGORIES:Installer Trainee Webinar
ATTACH;FMTTYPE=image/jpeg:https://polymericexteriors.org/wp-content/uploads/2019/11/VSI_December_Blog_Feature_FAE-e1579712123323.jpg
END:VEVENT
BEGIN:VEVENT
DTSTART;TZID=America/New_York:20220316T073000
DTEND;TZID=America/New_York:20220316T150000
DTSTAMP:20260421T005133
CREATED:20220314T035602Z
LAST-MODIFIED:20220314T035602Z
UID:10000283-1647415800-1647442800@polymericexteriors.org
SUMMARY:Certified Installer Class (In Person) - Cleveland\, OH
DESCRIPTION:
URL:https://polymericexteriors.org/event/certified-installer-class-in-person-cleveland-oh/
LOCATION:Apollo Supply Co.\, 12625 Berea Rd.\, Cleveland\, OH\, 44111
CATEGORIES:Certified Installer Training
ATTACH;FMTTYPE=image/jpeg:https://polymericexteriors.org/wp-content/uploads/2019/11/VSI_December_Blog_Feature_FAE-e1579712123323.jpg
ORGANIZER;CN="Michael DeBois":MAILTO:Michael.DeBois@provia.com
END:VEVENT
BEGIN:VEVENT
DTSTART;VALUE=DATE:20220316
DTEND;VALUE=DATE:20220319
DTSTAMP:20260421T005133
CREATED:20211229T223952Z
LAST-MODIFIED:20211229T223952Z
UID:10000253-1647388800-1647647999@polymericexteriors.org
SUMMARY:AEC Conference
DESCRIPTION:
URL:https://polymericexteriors.org/event/aec-conference/
CATEGORIES:Industry Events
END:VEVENT
BEGIN:VEVENT
DTSTART;TZID=America/New_York:20220310T090000
DTEND;TZID=America/New_York:20220310T140000
DTSTAMP:20260421T005133
CREATED:20220217T034103Z
LAST-MODIFIED:20220217T034133Z
UID:10000281-1646902800-1646920800@polymericexteriors.org
SUMMARY:Certified Installer Training (Lexington\, KY)
DESCRIPTION:
URL:https://polymericexteriors.org/event/certified-installer-training-6/
LOCATION:Lexington\, Lexington\, KY
CATEGORIES:Certified Installer Training
ATTACH;FMTTYPE=image/jpeg:https://polymericexteriors.org/wp-content/uploads/2020/05/AIBD_Event.jpg
ORGANIZER;CN="David Verbofsky":MAILTO:David.Verbofsky@cornerstone-bb.com
END:VEVENT
BEGIN:VEVENT
DTSTART;VALUE=DATE:20220307
DTEND;VALUE=DATE:20220310
DTSTAMP:20260421T005133
CREATED:20211230T143805Z
LAST-MODIFIED:20211230T143805Z
UID:10000267-1646611200-1646870399@polymericexteriors.org
SUMMARY:Building Professional Institute
DESCRIPTION:
URL:https://polymericexteriors.org/event/building-professional-institute/
CATEGORIES:Industry Events
END:VEVENT
BEGIN:VEVENT
DTSTART;TZID=America/New_York:20220303T090000
DTEND;TZID=America/New_York:20220303T140000
DTSTAMP:20260421T005133
CREATED:20220217T034431Z
LAST-MODIFIED:20220218T205533Z
UID:10000282-1646298000-1646316000@polymericexteriors.org
SUMMARY:Certified Installer Training (Charlotte\, NC)
DESCRIPTION:
URL:https://polymericexteriors.org/event/certified-installer-training-charlotte-nc/
LOCATION:Charlotte\, Charlotte\, NC
CATEGORIES:Certified Installer Training
ATTACH;FMTTYPE=image/jpeg:https://polymericexteriors.org/wp-content/uploads/2020/05/AIBD_Event.jpg
ORGANIZER;CN="David Verbofsky":MAILTO:David.Verbofsky@cornerstone-bb.com
END:VEVENT
BEGIN:VEVENT
DTSTART;TZID=America/New_York:20220303T090000
DTEND;TZID=America/New_York:20220303T140000
DTSTAMP:20260421T005133
CREATED:20220217T033752Z
LAST-MODIFIED:20220218T195548Z
UID:10000280-1646298000-1646316000@polymericexteriors.org
SUMMARY:Certified Installer Training (Columbus\, OH)
DESCRIPTION:
URL:https://polymericexteriors.org/event/certified-installer-training-5/
LOCATION:Columbus\, Columbus\, OH\, 43229
CATEGORIES:Certified Installer Training
ATTACH;FMTTYPE=image/jpeg:https://polymericexteriors.org/wp-content/uploads/2020/05/AIBD_Event.jpg
ORGANIZER;CN="David Verbofsky":MAILTO:David.Verbofsky@cornerstone-bb.com
END:VEVENT
BEGIN:VEVENT
DTSTART;VALUE=DATE:20220303
DTEND;VALUE=DATE:20220307
DTSTAMP:20260421T005133
CREATED:20211229T223702Z
LAST-MODIFIED:20211229T224009Z
UID:10000204-1646265600-1646611199@polymericexteriors.org
SUMMARY:Texas AIA
DESCRIPTION:
URL:https://polymericexteriors.org/event/texas-aia/
CATEGORIES:Industry Events
END:VEVENT
BEGIN:VEVENT
DTSTART;VALUE=DATE:20220228
DTEND;VALUE=DATE:20220302
DTSTAMP:20260421T005133
CREATED:20211229T223314Z
LAST-MODIFIED:20211229T223336Z
UID:10000202-1646006400-1646179199@polymericexteriors.org
SUMMARY:IBA Legislative Day\, Board of Directors & Committee Meetings
DESCRIPTION:
URL:https://polymericexteriors.org/event/iba-legislative-day-board-of-directors-committee-meetings/
LOCATION:Indianapolis\, IN
CATEGORIES:Industry Events
END:VEVENT
BEGIN:VEVENT
DTSTART;TZID=America/New_York:20220224T110000
DTEND;TZID=America/New_York:20220224T123000
DTSTAMP:20260421T005133
CREATED:20211215T154216Z
LAST-MODIFIED:20211215T154216Z
UID:10000195-1645700400-1645705800@polymericexteriors.org
SUMMARY:Basics of Vinyl Siding Installation & WRB Application Best Practices - Featuring Kingspan Insulation
DESCRIPTION:
URL:https://polymericexteriors.org/event/basics-of-vinyl-siding-installation-wrb-application-best-practices-featuring-kingspan-insulation/
CATEGORIES:Installer Trainee Webinar
END:VEVENT
BEGIN:VEVENT
DTSTART;TZID=America/New_York:20220223T090000
DTEND;TZID=America/New_York:20220223T140000
DTSTAMP:20260421T005133
CREATED:20220217T033452Z
LAST-MODIFIED:20220218T195813Z
UID:10000279-1645606800-1645624800@polymericexteriors.org
SUMMARY:Certified Installer Training (Cedar Rapid\, IA)
DESCRIPTION:
URL:https://polymericexteriors.org/event/certified-installer-training-4/
LOCATION:Cedar Rapids\, Cedar Rapids\, IA
CATEGORIES:Certified Installer Training
ATTACH;FMTTYPE=image/jpeg:https://polymericexteriors.org/wp-content/uploads/2020/05/AIBD_Event.jpg
END:VEVENT
BEGIN:VEVENT
DTSTART;TZID=America/New_York:20220222T090000
DTEND;TZID=America/New_York:20220222T140000
DTSTAMP:20260421T005133
CREATED:20211215T154406Z
LAST-MODIFIED:20211215T154406Z
UID:10000198-1645520400-1645538400@polymericexteriors.org
SUMMARY:Certified Installer Training
DESCRIPTION:
URL:https://polymericexteriors.org/event/certified-installer-training-2/
CATEGORIES:Certified Installer Training
END:VEVENT
BEGIN:VEVENT
DTSTART;TZID=America/New_York:20220217T110000
DTEND;TZID=America/New_York:20220217T123000
DTSTAMP:20260421T005133
CREATED:20211215T154113Z
LAST-MODIFIED:20211215T154113Z
UID:10000193-1645095600-1645101000@polymericexteriors.org
SUMMARY:Basics of Vinyl Siding Installation\, Tools of the Trade & Ventilation Concepts and Troubleshooting Techniques - Featuring Lomanco Vents
DESCRIPTION:
URL:https://polymericexteriors.org/event/basics-of-vinyl-siding-installation-tools-of-the-trade-ventilation-concepts-and-troubleshooting-techniques-featuring-lomanco-vents/
CATEGORIES:Installer Trainee Webinar
END:VEVENT
BEGIN:VEVENT
DTSTART;VALUE=DATE:20220210
DTEND;VALUE=DATE:20220213
DTSTAMP:20260421T005133
CREATED:20211230T143622Z
LAST-MODIFIED:20211230T143652Z
UID:10000266-1644451200-1644710399@polymericexteriors.org
SUMMARY:Code Enforcement Association of Texas - 27th Annual Business and Education Conference
DESCRIPTION:
URL:https://polymericexteriors.org/event/code-enforcement-association-of-texas/
CATEGORIES:Industry Events
END:VEVENT
END:VCALENDAR