BEGIN:VCALENDAR
VERSION:2.0
PRODID:-//Polymeric Exteriors - ECPv6.15.20//NONSGML v1.0//EN
CALSCALE:GREGORIAN
METHOD:PUBLISH
X-ORIGINAL-URL:https://polymericexteriors.org
X-WR-CALDESC:Events for Polymeric Exteriors
REFRESH-INTERVAL;VALUE=DURATION:PT1H
X-Robots-Tag:noindex
X-PUBLISHED-TTL:PT1H
BEGIN:VTIMEZONE
TZID:America/New_York
BEGIN:DAYLIGHT
TZOFFSETFROM:-0500
TZOFFSETTO:-0400
TZNAME:EDT
DTSTART:20210314T070000
END:DAYLIGHT
BEGIN:STANDARD
TZOFFSETFROM:-0400
TZOFFSETTO:-0500
TZNAME:EST
DTSTART:20211107T060000
END:STANDARD
BEGIN:DAYLIGHT
TZOFFSETFROM:-0500
TZOFFSETTO:-0400
TZNAME:EDT
DTSTART:20220313T070000
END:DAYLIGHT
BEGIN:STANDARD
TZOFFSETFROM:-0400
TZOFFSETTO:-0500
TZNAME:EST
DTSTART:20221106T060000
END:STANDARD
BEGIN:DAYLIGHT
TZOFFSETFROM:-0500
TZOFFSETTO:-0400
TZNAME:EDT
DTSTART:20230312T070000
END:DAYLIGHT
BEGIN:STANDARD
TZOFFSETFROM:-0400
TZOFFSETTO:-0500
TZNAME:EST
DTSTART:20231105T060000
END:STANDARD
END:VTIMEZONE
BEGIN:VEVENT
DTSTART;TZID=America/New_York:20220120T110000
DTEND;TZID=America/New_York:20220120T123000
DTSTAMP:20260425T100642
CREATED:20211215T153717Z
LAST-MODIFIED:20211215T153848Z
UID:10000189-1642676400-1642681800@polymericexteriors.org
SUMMARY:Basics of Vinyl Siding Installation\, Specialty Tools of the Trade & Intro to the Many Features & Benefits of Insulated Vinyl Siding - Featuring Progressive Foam Technologies
DESCRIPTION:
URL:https://polymericexteriors.org/event/basics-of-vinyl-siding-installation-specialty-tools-of-the-trade-introduction-to-the-many-features-benefits-of-insulated-vinyl-siding-featuring-progressive-foam-technologies/
LOCATION:IL
CATEGORIES:Installer Trainee Webinar
END:VEVENT
END:VCALENDAR