BEGIN:VCALENDAR
VERSION:2.0
PRODID:-//Polymeric Exteriors - ECPv6.15.20//NONSGML v1.0//EN
CALSCALE:GREGORIAN
METHOD:PUBLISH
X-ORIGINAL-URL:https://polymericexteriors.org
X-WR-CALDESC:Events for Polymeric Exteriors
REFRESH-INTERVAL;VALUE=DURATION:PT1H
X-Robots-Tag:noindex
X-PUBLISHED-TTL:PT1H
BEGIN:VTIMEZONE
TZID:America/New_York
BEGIN:DAYLIGHT
TZOFFSETFROM:-0500
TZOFFSETTO:-0400
TZNAME:EDT
DTSTART:20210314T070000
END:DAYLIGHT
BEGIN:STANDARD
TZOFFSETFROM:-0400
TZOFFSETTO:-0500
TZNAME:EST
DTSTART:20211107T060000
END:STANDARD
BEGIN:DAYLIGHT
TZOFFSETFROM:-0500
TZOFFSETTO:-0400
TZNAME:EDT
DTSTART:20220313T070000
END:DAYLIGHT
BEGIN:STANDARD
TZOFFSETFROM:-0400
TZOFFSETTO:-0500
TZNAME:EST
DTSTART:20221106T060000
END:STANDARD
BEGIN:DAYLIGHT
TZOFFSETFROM:-0500
TZOFFSETTO:-0400
TZNAME:EDT
DTSTART:20230312T070000
END:DAYLIGHT
BEGIN:STANDARD
TZOFFSETFROM:-0400
TZOFFSETTO:-0500
TZNAME:EST
DTSTART:20231105T060000
END:STANDARD
END:VTIMEZONE
BEGIN:VEVENT
DTSTART;TZID=America/New_York:20220927T090000
DTEND;TZID=America/New_York:20220927T140000
DTSTAMP:20260424T211129
CREATED:20220317T211623Z
LAST-MODIFIED:20220317T211623Z
UID:10000293-1664269200-1664287200@polymericexteriors.org
SUMMARY:VSI Certified Installer Certification (Online)
DESCRIPTION:
URL:https://polymericexteriors.org/event/vsi-certified-installer-certification-online-6/
LOCATION:IL
CATEGORIES:Certified Installer Training
ATTACH;FMTTYPE=image/jpeg:https://polymericexteriors.org/wp-content/uploads/2019/11/VSI_December_Blog_Feature_FAE-e1579712123323.jpg
END:VEVENT
BEGIN:VEVENT
DTSTART;TZID=America/New_York:20220929T110000
DTEND;TZID=America/New_York:20220929T123000
DTSTAMP:20260424T211129
CREATED:20220901T122515Z
LAST-MODIFIED:20220901T122515Z
UID:10000304-1664449200-1664454600@polymericexteriors.org
SUMMARY:VSI Installer Trainee Class (Online) featuring Tapco Tools
DESCRIPTION:
URL:https://polymericexteriors.org/event/vsi-installer-trainee-class-online-featuring-tapco-tools/
LOCATION:IL
CATEGORIES:Installer Trainee Webinar
ATTACH;FMTTYPE=image/jpeg:https://polymericexteriors.org/wp-content/uploads/2020/05/AIBD_Event.jpg
END:VEVENT
END:VCALENDAR