BEGIN:VCALENDAR
VERSION:2.0
PRODID:-//Polymeric Exteriors - ECPv6.15.18//NONSGML v1.0//EN
CALSCALE:GREGORIAN
METHOD:PUBLISH
X-ORIGINAL-URL:https://polymericexteriors.org
X-WR-CALDESC:Events for Polymeric Exteriors
REFRESH-INTERVAL;VALUE=DURATION:PT1H
X-Robots-Tag:noindex
X-PUBLISHED-TTL:PT1H
BEGIN:VTIMEZONE
TZID:America/New_York
BEGIN:DAYLIGHT
TZOFFSETFROM:-0500
TZOFFSETTO:-0400
TZNAME:EDT
DTSTART:20220313T070000
END:DAYLIGHT
BEGIN:STANDARD
TZOFFSETFROM:-0400
TZOFFSETTO:-0500
TZNAME:EST
DTSTART:20221106T060000
END:STANDARD
BEGIN:DAYLIGHT
TZOFFSETFROM:-0500
TZOFFSETTO:-0400
TZNAME:EDT
DTSTART:20230312T070000
END:DAYLIGHT
BEGIN:STANDARD
TZOFFSETFROM:-0400
TZOFFSETTO:-0500
TZNAME:EST
DTSTART:20231105T060000
END:STANDARD
BEGIN:DAYLIGHT
TZOFFSETFROM:-0500
TZOFFSETTO:-0400
TZNAME:EDT
DTSTART:20240310T070000
END:DAYLIGHT
BEGIN:STANDARD
TZOFFSETFROM:-0400
TZOFFSETTO:-0500
TZNAME:EST
DTSTART:20241103T060000
END:STANDARD
END:VTIMEZONE
BEGIN:VEVENT
DTSTART;VALUE=DATE:20230326
DTEND;VALUE=DATE:20230328
DTSTAMP:20260424T075057
CREATED:20230317T192206Z
LAST-MODIFIED:20230317T194747Z
UID:10000243-1679788800-1679961599@polymericexteriors.org
SUMMARY:VBCOA Mid-Year Conference and School
DESCRIPTION:PVC Formulation is the meeting place for leaders from across the vinyl supply chain. Discuss new technical developments and gain real business insight with those involved in all aspects of the PVC industry to learn about the latest developments in PVC formulations across a range of applications.
URL:https://polymericexteriors.org/event/vbcoa-mid-year-conference-and-school/
LOCATION:Cleveland\, OH\, Cleveland\, OH\, United States
CATEGORIES:Industry Events
ATTACH;FMTTYPE=image/jpeg:https://polymericexteriors.org/wp-content/uploads/2023/03/event-vbcoa.jpg
END:VEVENT
BEGIN:VEVENT
DTSTART;VALUE=DATE:20230331
DTEND;VALUE=DATE:20230404
DTSTAMP:20260424T075057
CREATED:20230317T195723Z
LAST-MODIFIED:20230317T200112Z
UID:10000254-1680220800-1680566399@polymericexteriors.org
SUMMARY:CNU 2023
DESCRIPTION:After the success of our first in-person Congress since the start of the pandemic\, the Congress for the New Urbanism is thrilled to bring our movement to one of the most diverse\, vibrant cities in the American Southeast with deep roots in new urbanism. Please join us from May 31 to June 3\, 2023 for CNU 31.Charlotte!
URL:https://polymericexteriors.org/event/cnu-2023/
LOCATION:Charlotte\, NC\, Charlotte\, NC\, United States
CATEGORIES:Industry Events
ATTACH;FMTTYPE=image/jpeg:https://polymericexteriors.org/wp-content/uploads/2023/03/event-cnu.jpg
END:VEVENT
END:VCALENDAR