BEGIN:VCALENDAR
VERSION:2.0
PRODID:-//Polymeric Exteriors - ECPv6.15.18//NONSGML v1.0//EN
CALSCALE:GREGORIAN
METHOD:PUBLISH
X-ORIGINAL-URL:https://polymericexteriors.org
X-WR-CALDESC:Events for Polymeric Exteriors
REFRESH-INTERVAL;VALUE=DURATION:PT1H
X-Robots-Tag:noindex
X-PUBLISHED-TTL:PT1H
BEGIN:VTIMEZONE
TZID:America/New_York
BEGIN:DAYLIGHT
TZOFFSETFROM:-0500
TZOFFSETTO:-0400
TZNAME:EDT
DTSTART:20220313T070000
END:DAYLIGHT
BEGIN:STANDARD
TZOFFSETFROM:-0400
TZOFFSETTO:-0500
TZNAME:EST
DTSTART:20221106T060000
END:STANDARD
BEGIN:DAYLIGHT
TZOFFSETFROM:-0500
TZOFFSETTO:-0400
TZNAME:EDT
DTSTART:20230312T070000
END:DAYLIGHT
BEGIN:STANDARD
TZOFFSETFROM:-0400
TZOFFSETTO:-0500
TZNAME:EST
DTSTART:20231105T060000
END:STANDARD
BEGIN:DAYLIGHT
TZOFFSETFROM:-0500
TZOFFSETTO:-0400
TZNAME:EDT
DTSTART:20240310T070000
END:DAYLIGHT
BEGIN:STANDARD
TZOFFSETFROM:-0400
TZOFFSETTO:-0500
TZNAME:EST
DTSTART:20241103T060000
END:STANDARD
END:VTIMEZONE
BEGIN:VEVENT
DTSTART;VALUE=DATE:20230605
DTEND;VALUE=DATE:20230609
DTSTAMP:20260424T061818
CREATED:20230317T195329Z
LAST-MODIFIED:20230317T200043Z
UID:10000252-1685923200-1686268799@polymericexteriors.org
SUMMARY:ASTM E05 (Fire)
DESCRIPTION:Technical Committees develop and maintain ASTM standards. They are grouped by designation according to related activities within a particular scope of work (ex: A01 on Steel\, Stainless Steel and Related Alloys). ASTM Committees are made up of over 32\,000 volunteers from industry and include manufacturers and consumers\, as well as other interest groups such as government or academia. Any interested individual can participate on a Technical Committee through ASTM membership
URL:https://polymericexteriors.org/event/astm-e05-fire/
LOCATION:Denver\, CO\, Denver\, CO\, United States
CATEGORIES:Industry Events
ATTACH;FMTTYPE=image/jpeg:https://polymericexteriors.org/wp-content/uploads/2023/03/event-astm.jpg
END:VEVENT
BEGIN:VEVENT
DTSTART;VALUE=DATE:20230606
DTEND;VALUE=DATE:20230611
DTSTAMP:20260424T061818
CREATED:20230317T200014Z
LAST-MODIFIED:20230317T200014Z
UID:10000256-1686009600-1686441599@polymericexteriors.org
SUMMARY:NAHB Spring Legislative and Leadership Meetings
DESCRIPTION:NAHB leadership will gather in Washington\, D.C. for the 2023 Spring Leadership Meetings and Legislative Conference\, June 6-10.
URL:https://polymericexteriors.org/event/nahb-spring-legislative-and-leadership-meetings/
LOCATION:Washington D.C.\, Washington DC\, United States
CATEGORIES:Industry Events
ATTACH;FMTTYPE=image/jpeg:https://polymericexteriors.org/wp-content/uploads/2023/03/event-nahb.jpg
END:VEVENT
BEGIN:VEVENT
DTSTART;VALUE=DATE:20230611
DTEND;VALUE=DATE:20230615
DTSTAMP:20260424T061818
CREATED:20230317T200834Z
LAST-MODIFIED:20230317T200834Z
UID:10000258-1686441600-1686787199@polymericexteriors.org
SUMMARY:Florida BOAF
DESCRIPTION:The Building Officials Association of Florida’s (BOAF) Annual Conference & Expo is the premier event in Florida for building code officials\, inspectors\, contractors\, architects\, and engineers\, offering the chance to showcase your products and services to the building code industry and to reach decision-makers face-to-face.
URL:https://polymericexteriors.org/event/florida-boaf/
LOCATION:Orlando\, FL\, Orlando\, FL\, United States
CATEGORIES:Industry Events
ATTACH;FMTTYPE=image/jpeg:https://polymericexteriors.org/wp-content/uploads/2023/03/event-boaf.jpg
END:VEVENT
END:VCALENDAR