BEGIN:VCALENDAR
VERSION:2.0
PRODID:-//Polymeric Exteriors - ECPv6.15.18//NONSGML v1.0//EN
CALSCALE:GREGORIAN
METHOD:PUBLISH
X-WR-CALNAME:Polymeric Exteriors
X-ORIGINAL-URL:https://polymericexteriors.org
X-WR-CALDESC:Events for Polymeric Exteriors
REFRESH-INTERVAL;VALUE=DURATION:PT1H
X-Robots-Tag:noindex
X-PUBLISHED-TTL:PT1H
BEGIN:VTIMEZONE
TZID:America/New_York
BEGIN:DAYLIGHT
TZOFFSETFROM:-0500
TZOFFSETTO:-0400
TZNAME:EDT
DTSTART:20220313T070000
END:DAYLIGHT
BEGIN:STANDARD
TZOFFSETFROM:-0400
TZOFFSETTO:-0500
TZNAME:EST
DTSTART:20221106T060000
END:STANDARD
BEGIN:DAYLIGHT
TZOFFSETFROM:-0500
TZOFFSETTO:-0400
TZNAME:EDT
DTSTART:20230312T070000
END:DAYLIGHT
BEGIN:STANDARD
TZOFFSETFROM:-0400
TZOFFSETTO:-0500
TZNAME:EST
DTSTART:20231105T060000
END:STANDARD
BEGIN:DAYLIGHT
TZOFFSETFROM:-0500
TZOFFSETTO:-0400
TZNAME:EDT
DTSTART:20240310T070000
END:DAYLIGHT
BEGIN:STANDARD
TZOFFSETFROM:-0400
TZOFFSETTO:-0500
TZNAME:EST
DTSTART:20241103T060000
END:STANDARD
END:VTIMEZONE
BEGIN:VEVENT
DTSTART;VALUE=DATE:20230919
DTEND;VALUE=DATE:20230922
DTSTAMP:20260422T000206
CREATED:20230317T203304Z
LAST-MODIFIED:20230317T203304Z
UID:10000317-1695081600-1695340799@polymericexteriors.org
SUMMARY:NAHB Fall Board Meeting
DESCRIPTION:The NAHB Board of Directors is comprised of directors elected by the Leadership Council. This corporate board focuses on the day-to-day business activities of the Association. The board will implement the policy decisions of the Leadership Council\, develop the Association’s operating budget\, control NAHB’s property\, authorize expenditures and carry out the mission of the Association.
URL:https://polymericexteriors.org/event/nahb-fall-board-meeting/
LOCATION:Palm Springs\, CA\, Palm Springs\, CA\, United States
CATEGORIES:Industry Events
ATTACH;FMTTYPE=image/jpeg:https://polymericexteriors.org/wp-content/uploads/2023/03/event-nahb.jpg
END:VEVENT
BEGIN:VEVENT
DTSTART;VALUE=DATE:20230920
DTEND;VALUE=DATE:20230923
DTSTAMP:20260422T000206
CREATED:20230317T203658Z
LAST-MODIFIED:20230317T203658Z
UID:10000316-1695168000-1695427199@polymericexteriors.org
SUMMARY:PAC State and Local Government Relations Conference
DESCRIPTION:Once a year\, leaders and practitioners in state and local government relations gather to discuss current and emerging trends\, best practices and tricks of the trade.
URL:https://polymericexteriors.org/event/pac-state-and-local-government-relations-conference/
LOCATION:IL
CATEGORIES:Industry Events
ATTACH;FMTTYPE=image/jpeg:https://polymericexteriors.org/wp-content/uploads/2023/03/event-pac.jpg
END:VEVENT
BEGIN:VEVENT
DTSTART;TZID=America/New_York:20230920T100000
DTEND;TZID=America/New_York:20230920T150000
DTSTAMP:20260422T000206
CREATED:20230411T050641Z
LAST-MODIFIED:20230411T050641Z
UID:10000330-1695204000-1695222000@polymericexteriors.org
SUMMARY:Certified Installer Training (Virtual / Webinar)
DESCRIPTION:
URL:https://polymericexteriors.org/event/certified-installer-training-virtual-webinar-6/
LOCATION:IL
CATEGORIES:Certified Installer Training
ATTACH;FMTTYPE=image/jpeg:https://polymericexteriors.org/wp-content/uploads/2023/02/train-trainer.jpg
END:VEVENT
END:VCALENDAR