BEGIN:VCALENDAR
VERSION:2.0
PRODID:-//Polymeric Exteriors - ECPv6.15.18//NONSGML v1.0//EN
CALSCALE:GREGORIAN
METHOD:PUBLISH
X-ORIGINAL-URL:https://polymericexteriors.org
X-WR-CALDESC:Events for Polymeric Exteriors
REFRESH-INTERVAL;VALUE=DURATION:PT1H
X-Robots-Tag:noindex
X-PUBLISHED-TTL:PT1H
BEGIN:VTIMEZONE
TZID:America/New_York
BEGIN:DAYLIGHT
TZOFFSETFROM:-0500
TZOFFSETTO:-0400
TZNAME:EDT
DTSTART:20220313T070000
END:DAYLIGHT
BEGIN:STANDARD
TZOFFSETFROM:-0400
TZOFFSETTO:-0500
TZNAME:EST
DTSTART:20221106T060000
END:STANDARD
BEGIN:DAYLIGHT
TZOFFSETFROM:-0500
TZOFFSETTO:-0400
TZNAME:EDT
DTSTART:20230312T070000
END:DAYLIGHT
BEGIN:STANDARD
TZOFFSETFROM:-0400
TZOFFSETTO:-0500
TZNAME:EST
DTSTART:20231105T060000
END:STANDARD
BEGIN:DAYLIGHT
TZOFFSETFROM:-0500
TZOFFSETTO:-0400
TZNAME:EDT
DTSTART:20240310T070000
END:DAYLIGHT
BEGIN:STANDARD
TZOFFSETFROM:-0400
TZOFFSETTO:-0500
TZNAME:EST
DTSTART:20241103T060000
END:STANDARD
END:VTIMEZONE
BEGIN:VEVENT
DTSTART;VALUE=DATE:20231008
DTEND;VALUE=DATE:20231012
DTSTAMP:20260422T011432
CREATED:20230317T204047Z
LAST-MODIFIED:20230317T204047Z
UID:10000318-1696723200-1697068799@polymericexteriors.org
SUMMARY:ICC Annual Conference and Expo
DESCRIPTION:Whether you are a code official\, architect\, engineer\, contractor\, PMG or fire safety professional\, your participation is vital in helping to develop model codes and standards used in the design\, build and compliance process to construct safe\, sustainable\, affordable and resilient structures.
URL:https://polymericexteriors.org/event/icc-annual-conference-and-expo/
LOCATION:St. Louis\, MO\, St. Louis\, MO\, United States
CATEGORIES:Industry Events
ATTACH;FMTTYPE=image/jpeg:https://polymericexteriors.org/wp-content/uploads/2023/03/event-icc.jpg
END:VEVENT
END:VCALENDAR