BEGIN:VCALENDAR
VERSION:2.0
PRODID:-//Polymeric Exteriors - ECPv6.15.18//NONSGML v1.0//EN
CALSCALE:GREGORIAN
METHOD:PUBLISH
X-WR-CALNAME:Polymeric Exteriors
X-ORIGINAL-URL:https://polymericexteriors.org
X-WR-CALDESC:Events for Polymeric Exteriors
REFRESH-INTERVAL;VALUE=DURATION:PT1H
X-Robots-Tag:noindex
X-PUBLISHED-TTL:PT1H
BEGIN:VTIMEZONE
TZID:America/New_York
BEGIN:DAYLIGHT
TZOFFSETFROM:-0500
TZOFFSETTO:-0400
TZNAME:EDT
DTSTART:20220313T070000
END:DAYLIGHT
BEGIN:STANDARD
TZOFFSETFROM:-0400
TZOFFSETTO:-0500
TZNAME:EST
DTSTART:20221106T060000
END:STANDARD
BEGIN:DAYLIGHT
TZOFFSETFROM:-0500
TZOFFSETTO:-0400
TZNAME:EDT
DTSTART:20230312T070000
END:DAYLIGHT
BEGIN:STANDARD
TZOFFSETFROM:-0400
TZOFFSETTO:-0500
TZNAME:EST
DTSTART:20231105T060000
END:STANDARD
BEGIN:DAYLIGHT
TZOFFSETFROM:-0500
TZOFFSETTO:-0400
TZNAME:EDT
DTSTART:20240310T070000
END:DAYLIGHT
BEGIN:STANDARD
TZOFFSETFROM:-0400
TZOFFSETTO:-0500
TZNAME:EST
DTSTART:20241103T060000
END:STANDARD
END:VTIMEZONE
BEGIN:VEVENT
DTSTART;VALUE=DATE:20231101
DTEND;VALUE=DATE:20231104
DTSTAMP:20260421T202203
CREATED:20230317T223112Z
LAST-MODIFIED:20230317T223112Z
UID:10000322-1698796800-1699055999@polymericexteriors.org
SUMMARY:ASTM E60 (Sustainability)
DESCRIPTION:Technical Committees develop and maintain ASTM standards. They are grouped by designation according to related activities within a particular scope of work (ex: A01 on Steel\, Stainless Steel and Related Alloys). ASTM Committees are made up of over 32\,000 volunteers from industry and include manufacturers and consumers\, as well as other interest groups such as government or academia. Any interested individual can participate on a Technical Committee through ASTM membership
URL:https://polymericexteriors.org/event/astm-e60-sustainability-2/
LOCATION:Washington\, DC\, United States
CATEGORIES:Industry Events
ATTACH;FMTTYPE=image/jpeg:https://polymericexteriors.org/wp-content/uploads/2023/03/event-astm.jpg
END:VEVENT
BEGIN:VEVENT
DTSTART;VALUE=DATE:20231105
DTEND;VALUE=DATE:20231108
DTSTAMP:20260421T202203
CREATED:20230317T204748Z
LAST-MODIFIED:20230504T153055Z
UID:10000319-1699142400-1699401599@polymericexteriors.org
SUMMARY:Ohio Building Officials Association
DESCRIPTION:OBOA has since 1961 represented the code enforcement community’s interests at Ohio Board of Building Standards\, the State Fire Marshal’s Office\, and the Ohio General Assembly.
URL:https://polymericexteriors.org/event/ohio-building-officials-association/
LOCATION:Cleveland\, OH\, Cleveland\, OH\, United States
CATEGORIES:Industry Events
ATTACH;FMTTYPE=image/jpeg:https://polymericexteriors.org/wp-content/uploads/2023/03/event-oboa.jpg
END:VEVENT
BEGIN:VEVENT
DTSTART;VALUE=DATE:20231105
DTEND;VALUE=DATE:20231110
DTSTAMP:20260421T202203
CREATED:20230317T222956Z
LAST-MODIFIED:20230317T222956Z
UID:10000321-1699142400-1699574399@polymericexteriors.org
SUMMARY:ASTM D20 (Plastics)
DESCRIPTION:Technical Committees develop and maintain ASTM standards. They are grouped by designation according to related activities within a particular scope of work (ex: A01 on Steel\, Stainless Steel and Related Alloys). ASTM Committees are made up of over 32\,000 volunteers from industry and include manufacturers and consumers\, as well as other interest groups such as government or academia. Any interested individual can participate on a Technical Committee through ASTM membership
URL:https://polymericexteriors.org/event/astm-d20-plastics-2/
LOCATION:Washington\, DC\, United States
CATEGORIES:Industry Events
ATTACH;FMTTYPE=image/jpeg:https://polymericexteriors.org/wp-content/uploads/2023/03/event-astm.jpg
END:VEVENT
END:VCALENDAR