BEGIN:VCALENDAR
VERSION:2.0
PRODID:-//Polymeric Exteriors - ECPv6.15.18//NONSGML v1.0//EN
CALSCALE:GREGORIAN
METHOD:PUBLISH
X-ORIGINAL-URL:https://polymericexteriors.org
X-WR-CALDESC:Events for Polymeric Exteriors
REFRESH-INTERVAL;VALUE=DURATION:PT1H
X-Robots-Tag:noindex
X-PUBLISHED-TTL:PT1H
BEGIN:VTIMEZONE
TZID:America/New_York
BEGIN:DAYLIGHT
TZOFFSETFROM:-0500
TZOFFSETTO:-0400
TZNAME:EDT
DTSTART:20220313T070000
END:DAYLIGHT
BEGIN:STANDARD
TZOFFSETFROM:-0400
TZOFFSETTO:-0500
TZNAME:EST
DTSTART:20221106T060000
END:STANDARD
BEGIN:DAYLIGHT
TZOFFSETFROM:-0500
TZOFFSETTO:-0400
TZNAME:EDT
DTSTART:20230312T070000
END:DAYLIGHT
BEGIN:STANDARD
TZOFFSETFROM:-0400
TZOFFSETTO:-0500
TZNAME:EST
DTSTART:20231105T060000
END:STANDARD
BEGIN:DAYLIGHT
TZOFFSETFROM:-0500
TZOFFSETTO:-0400
TZNAME:EDT
DTSTART:20240310T070000
END:DAYLIGHT
BEGIN:STANDARD
TZOFFSETFROM:-0400
TZOFFSETTO:-0500
TZNAME:EST
DTSTART:20241103T060000
END:STANDARD
END:VTIMEZONE
BEGIN:VEVENT
DTSTART;VALUE=DATE:20231204
DTEND;VALUE=DATE:20231208
DTSTAMP:20260421T185201
CREATED:20230317T222723Z
LAST-MODIFIED:20230504T153938Z
UID:10000320-1701648000-1701993599@polymericexteriors.org
SUMMARY:ASTM E05 (Fire)
DESCRIPTION:Technical Committees develop and maintain ASTM standards. They are grouped by designation according to related activities within a particular scope of work (ex: A01 on Steel\, Stainless Steel and Related Alloys). ASTM Committees are made up of over 32\,000 volunteers from industry and include manufacturers and consumers\, as well as other interest groups such as government or academia. Any interested individual can participate on a Technical Committee through ASTM membership
URL:https://polymericexteriors.org/event/astm-e05-fire-2/
LOCATION:Denver\, CO\, Denver\, CO\, United States
ATTACH;FMTTYPE=image/jpeg:https://polymericexteriors.org/wp-content/uploads/2023/03/event-astm.jpg
END:VEVENT
BEGIN:VEVENT
DTSTART;TZID=America/New_York:20231207T090000
DTEND;TZID=America/New_York:20231207T150000
DTSTAMP:20260421T185201
CREATED:20231127T043025Z
LAST-MODIFIED:20231127T043025Z
UID:10000339-1701939600-1701961200@polymericexteriors.org
SUMMARY:Certified Installer Training (Nashville\, TN)
DESCRIPTION:
URL:https://polymericexteriors.org/event/certified-installer-training-nashville-tn/
LOCATION:Nashville\, TN\, Nashville\, TN\, 37211\, United States
CATEGORIES:Certified Installer Training
ATTACH;FMTTYPE=image/jpeg:https://polymericexteriors.org/wp-content/uploads/2023/02/next-generation.jpg
ORGANIZER;CN="Thomas Lare":MAILTO:thomasjlare@hotmail.com
END:VEVENT
END:VCALENDAR