BEGIN:VCALENDAR
VERSION:2.0
PRODID:-//Polymeric Exteriors - ECPv6.15.18//NONSGML v1.0//EN
CALSCALE:GREGORIAN
METHOD:PUBLISH
X-WR-CALNAME:Polymeric Exteriors
X-ORIGINAL-URL:https://polymericexteriors.org
X-WR-CALDESC:Events for Polymeric Exteriors
REFRESH-INTERVAL;VALUE=DURATION:PT1H
X-Robots-Tag:noindex
X-PUBLISHED-TTL:PT1H
BEGIN:VTIMEZONE
TZID:America/New_York
BEGIN:DAYLIGHT
TZOFFSETFROM:-0500
TZOFFSETTO:-0400
TZNAME:EDT
DTSTART:20230312T070000
END:DAYLIGHT
BEGIN:STANDARD
TZOFFSETFROM:-0400
TZOFFSETTO:-0500
TZNAME:EST
DTSTART:20231105T060000
END:STANDARD
BEGIN:DAYLIGHT
TZOFFSETFROM:-0500
TZOFFSETTO:-0400
TZNAME:EDT
DTSTART:20240310T070000
END:DAYLIGHT
BEGIN:STANDARD
TZOFFSETFROM:-0400
TZOFFSETTO:-0500
TZNAME:EST
DTSTART:20241103T060000
END:STANDARD
BEGIN:DAYLIGHT
TZOFFSETFROM:-0500
TZOFFSETTO:-0400
TZNAME:EDT
DTSTART:20250309T070000
END:DAYLIGHT
BEGIN:STANDARD
TZOFFSETFROM:-0400
TZOFFSETTO:-0500
TZNAME:EST
DTSTART:20251102T060000
END:STANDARD
END:VTIMEZONE
BEGIN:VEVENT
DTSTART;VALUE=DATE:20240422
DTEND;VALUE=DATE:20240426
DTSTAMP:20260421T141213
CREATED:20240115T165240Z
LAST-MODIFIED:20251117T161139Z
UID:10000346-1713744000-1714089599@polymericexteriors.org
SUMMARY:Vinyl Siding Institute Annual Meeting 2024
DESCRIPTION:The VSI is excited to welcome you to a very special Annual Meeting\, April 22-25\, 2024\, at the Ritz–Carlton in New Orleans\, LA. At this meeting\, we will evolve our current association and officially launch the Polymeric Exterior Products Association (PEPA)! \nIn September 2023\, the Board of Directors adopted a vision for broadening and strengthening the association to evolve with the industry. After 45 successful years as the Vinyl Siding Institute\, we will broaden our mission and membership to include all polymeric exterior building products. \n\nManufacturers of polymeric exterior building products face several common challenges that we can best tackle together.\nA united industry is a stronger industry.\nMore advocacy wins will protect and open key markets for growth.\nMore workforce training programs will drive incremental laborers and enable the growth of our products in the industry.\nMore sustainability helps drive consumer preference for our products and ensures a better world.\nMore member involvement drives stronger in-market engagement and\, therefore\, the success of key initiatives.\n\nThis will be an important event and one you won’t want to miss. Come and participate in the PEPA launch and celebration! We need you there to engage with prospective members and help ensure our future and joint success. \nRegister here. \nBooking Link: Book your group rate for Vinyl Siding Institute Annual Meeting 2024 Room Block \nImportant Registration dates: \n\nEarly Bird Registration: January 18\, 2024 – April 1\, 2024\nRegular Registration: April 2\, 2024 – April 25\, 2024\n\nReview the current Agenda.
URL:https://polymericexteriors.org/event/vinyl-siding-institute-annual-meeting-2024/
LOCATION:The Ritz-Carlton New Orleans\, 921 Canal St.\, New Orleans\, LA\, 70112\, United States
CATEGORIES:Industry Events
END:VEVENT
END:VCALENDAR