BEGIN:VCALENDAR
VERSION:2.0
PRODID:-//Polymeric Exteriors - ECPv6.15.18//NONSGML v1.0//EN
CALSCALE:GREGORIAN
METHOD:PUBLISH
X-ORIGINAL-URL:https://polymericexteriors.org
X-WR-CALDESC:Events for Polymeric Exteriors
REFRESH-INTERVAL;VALUE=DURATION:PT1H
X-Robots-Tag:noindex
X-PUBLISHED-TTL:PT1H
BEGIN:VTIMEZONE
TZID:America/New_York
BEGIN:DAYLIGHT
TZOFFSETFROM:-0500
TZOFFSETTO:-0400
TZNAME:EDT
DTSTART:20230312T070000
END:DAYLIGHT
BEGIN:STANDARD
TZOFFSETFROM:-0400
TZOFFSETTO:-0500
TZNAME:EST
DTSTART:20231105T060000
END:STANDARD
BEGIN:DAYLIGHT
TZOFFSETFROM:-0500
TZOFFSETTO:-0400
TZNAME:EDT
DTSTART:20240310T070000
END:DAYLIGHT
BEGIN:STANDARD
TZOFFSETFROM:-0400
TZOFFSETTO:-0500
TZNAME:EST
DTSTART:20241103T060000
END:STANDARD
BEGIN:DAYLIGHT
TZOFFSETFROM:-0500
TZOFFSETTO:-0400
TZNAME:EDT
DTSTART:20250309T070000
END:DAYLIGHT
BEGIN:STANDARD
TZOFFSETFROM:-0400
TZOFFSETTO:-0500
TZNAME:EST
DTSTART:20251102T060000
END:STANDARD
END:VTIMEZONE
BEGIN:VEVENT
DTSTART;TZID=America/New_York:20240918T090000
DTEND;TZID=America/New_York:20240918T140000
DTSTAMP:20260421T065735
CREATED:20240715T170227Z
LAST-MODIFIED:20240909T181405Z
UID:10000350-1726650000-1726668000@polymericexteriors.org
SUMMARY:Certified Installer Training - Webinar
DESCRIPTION:
URL:https://polymericexteriors.org/event/certified-installer-training-webinar-9/
LOCATION:IL
ATTACH;FMTTYPE=image/jpeg:https://polymericexteriors.org/wp-content/uploads/2023/02/train-trainer.jpg
END:VEVENT
BEGIN:VEVENT
DTSTART;TZID=America/New_York:20240918T140000
DTEND;TZID=America/New_York:20240919T170000
DTSTAMP:20260421T065735
CREATED:20240711T135656Z
LAST-MODIFIED:20240821T195633Z
UID:10000347-1726668000-1726765200@polymericexteriors.org
SUMMARY:PEPA Board Meeting 2024
DESCRIPTION:The Polymeric Exterior Products Association (PEPA) is excited to welcome our board members September 18-19\, 2024\, at the Westin National Harbor\, MD. \nThis meeting will include an afternoon board session on Wednesday\, September 18\, followed by a reception and dinner\, and continue with a full-day board meeting on Thursday\, September 19\, 2024. \nOnce you’ve registered online\, you can reserve your room with our special discounted rate through August 21\, 2024\, at the Westin National Harbor: Book your group rate for PEPA Industry Insights & Board Meeting \nWe look forward to your participation!
URL:https://polymericexteriors.org/event/pepa-industry-insights-and-board-meeting-2024/
LOCATION:The Westin Washington National Harbor\, 171 Waterfront Street\, National Harbor\, MD\, 20745\, United States
CATEGORIES:Industry Events
END:VEVENT
END:VCALENDAR