BEGIN:VCALENDAR
VERSION:2.0
PRODID:-//Polymeric Exteriors - ECPv6.15.18//NONSGML v1.0//EN
CALSCALE:GREGORIAN
METHOD:PUBLISH
X-ORIGINAL-URL:https://polymericexteriors.org
X-WR-CALDESC:Events for Polymeric Exteriors
REFRESH-INTERVAL;VALUE=DURATION:PT1H
X-Robots-Tag:noindex
X-PUBLISHED-TTL:PT1H
BEGIN:VTIMEZONE
TZID:America/New_York
BEGIN:DAYLIGHT
TZOFFSETFROM:-0500
TZOFFSETTO:-0400
TZNAME:EDT
DTSTART:20230312T070000
END:DAYLIGHT
BEGIN:STANDARD
TZOFFSETFROM:-0400
TZOFFSETTO:-0500
TZNAME:EST
DTSTART:20231105T060000
END:STANDARD
BEGIN:DAYLIGHT
TZOFFSETFROM:-0500
TZOFFSETTO:-0400
TZNAME:EDT
DTSTART:20240310T070000
END:DAYLIGHT
BEGIN:STANDARD
TZOFFSETFROM:-0400
TZOFFSETTO:-0500
TZNAME:EST
DTSTART:20241103T060000
END:STANDARD
BEGIN:DAYLIGHT
TZOFFSETFROM:-0500
TZOFFSETTO:-0400
TZNAME:EDT
DTSTART:20250309T070000
END:DAYLIGHT
BEGIN:STANDARD
TZOFFSETFROM:-0400
TZOFFSETTO:-0500
TZNAME:EST
DTSTART:20251102T060000
END:STANDARD
END:VTIMEZONE
BEGIN:VEVENT
DTSTART;TZID=America/New_York:20241023T080000
DTEND;TZID=America/New_York:20241023T130000
DTSTAMP:20260421T012426
CREATED:20240715T170655Z
LAST-MODIFIED:20240715T170655Z
UID:10000351-1729670400-1729688400@polymericexteriors.org
SUMMARY:Certified Installer Training - Webinar
DESCRIPTION:
URL:https://polymericexteriors.org/event/certified-installer-training-webinar-10/
LOCATION:IL
CATEGORIES:Certified Installer Training
ATTACH;FMTTYPE=image/jpeg:https://polymericexteriors.org/wp-content/uploads/2022/10/Design-Standards.jpg
END:VEVENT
END:VCALENDAR